Package: ReactomeGSA Version: 1.25.0 Command: /home/biocbuild/bbs-3.23-bioc/R/bin/R CMD INSTALL ReactomeGSA StartedAt: 2025-11-05 15:59:49 -0500 (Wed, 05 Nov 2025) EndedAt: 2025-11-05 15:59:58 -0500 (Wed, 05 Nov 2025) EllapsedTime: 9.3 seconds RetCode: 0 Status: OK