Package: ReactomeGSA Version: 1.25.0 Command: /home/biocbuild/bbs-3.23-bioc/R/bin/R CMD check --install=check:ReactomeGSA.install-out.txt --library=/home/biocbuild/bbs-3.23-bioc/R/site-library --timings ReactomeGSA_1.25.0.tar.gz StartedAt: 2025-11-06 03:00:34 -0500 (Thu, 06 Nov 2025) EndedAt: 2025-11-06 03:20:03 -0500 (Thu, 06 Nov 2025) EllapsedTime: 1169.4 seconds RetCode: 0 Status: OK CheckDir: ReactomeGSA.Rcheck Warnings: 0