Package: ReactomeGSA Version: 1.25.0 Command: /home/biocbuild/bbs-3.23-bioc/R/bin/R CMD build --keep-empty-dirs --no-resave-data ReactomeGSA StartedAt: 2025-11-05 19:34:16 -0500 (Wed, 05 Nov 2025) EndedAt: 2025-11-05 19:39:59 -0500 (Wed, 05 Nov 2025) EllapsedTime: 343.4 seconds RetCode: 0 Status: OK PackageFile: ReactomeGSA_1.25.0.tar.gz PackageFileSize: 375.3 KiB