Package: ReUseData Version: 1.11.0 Command: /home/biocbuild/bbs-3.23-bioc/R/bin/R CMD INSTALL ReUseData StartedAt: 2025-11-20 15:12:29 -0500 (Thu, 20 Nov 2025) EndedAt: 2025-11-20 15:12:45 -0500 (Thu, 20 Nov 2025) EllapsedTime: 16.1 seconds RetCode: 0 Status: OK