Package: ReUseData Version: 1.11.0 Command: /home/biocbuild/bbs-3.23-bioc/R/bin/R CMD build --keep-empty-dirs --no-resave-data ReUseData StartedAt: 2025-11-20 19:35:04 -0500 (Thu, 20 Nov 2025) EndedAt: 2025-11-20 19:35:54 -0500 (Thu, 20 Nov 2025) EllapsedTime: 49.1 seconds RetCode: 0 Status: OK PackageFile: ReUseData_1.11.0.tar.gz PackageFileSize: 915.9 KiB