############################################################################## ############################################################################## ### ### Running command: ### ### /home/biocbuild/bbs-3.23-bioc/R/bin/R CMD build --keep-empty-dirs --no-resave-data ReUseData ### ############################################################################## ############################################################################## * checking for file ‘ReUseData/DESCRIPTION’ ... OK * preparing ‘ReUseData’: * checking DESCRIPTION meta-information ... OK * installing the package (it is needed to build vignettes) * creating vignettes ... OK * checking for LF line-endings in source and make files and shell scripts * checking for empty or unneeded directories * building ‘ReUseData_1.11.0.tar.gz’