Package: Rdisop Version: 1.69.2 Command: /home/biocbuild/bbs-3.22-bioc/R/bin/R CMD INSTALL Rdisop StartedAt: 2025-10-03 15:01:48 -0400 (Fri, 03 Oct 2025) EndedAt: 2025-10-03 15:02:30 -0400 (Fri, 03 Oct 2025) EllapsedTime: 41.7 seconds RetCode: 0 Status: OK