Package: Rdisop Version: 1.71.0 Command: /home/biocbuild/bbs-3.23-bioc/R/bin/R CMD INSTALL Rdisop StartedAt: 2025-11-20 15:02:03 -0500 (Thu, 20 Nov 2025) EndedAt: 2025-11-20 15:02:43 -0500 (Thu, 20 Nov 2025) EllapsedTime: 40.7 seconds RetCode: 0 Status: OK