Package: Rdisop Version: 1.71.0 Command: /home/biocbuild/bbs-3.23-bioc/R/bin/R CMD build --keep-empty-dirs --no-resave-data Rdisop StartedAt: 2025-11-20 19:32:28 -0500 (Thu, 20 Nov 2025) EndedAt: 2025-11-20 19:33:04 -0500 (Thu, 20 Nov 2025) EllapsedTime: 36.1 seconds RetCode: 0 Status: OK PackageFile: Rdisop_1.71.0.tar.gz PackageFileSize: 713.4 KiB