Package: Rdisop Version: 1.69.2 Command: /Library/Frameworks/R.framework/Resources/bin/R CMD INSTALL Rdisop StartedAt: 2025-10-27 15:02:57 -0400 (Mon, 27 Oct 2025) EndedAt: 2025-10-27 15:03:39 -0400 (Mon, 27 Oct 2025) EllapsedTime: 41.7 seconds RetCode: 0 Status: OK