Package: Rdisop Version: 1.69.2 Command: /Library/Frameworks/R.framework/Resources/bin/R CMD build --keep-empty-dirs --no-resave-data Rdisop StartedAt: 2025-10-27 18:18:33 -0400 (Mon, 27 Oct 2025) EndedAt: 2025-10-27 18:19:18 -0400 (Mon, 27 Oct 2025) EllapsedTime: 45.8 seconds RetCode: 0 Status: OK PackageFile: Rdisop_1.69.2.tar.gz PackageFileSize: 715.6 KiB