Package: Rdisop Version: 1.69.2 Command: rm -rf Rdisop.buildbin-libdir && mkdir Rdisop.buildbin-libdir && /Users/biocbuild/BBS/utils/build-universal.sh Rdisop_1.69.2.tar.gz /Library/Frameworks/R.framework/Resources/bin/R Rdisop.buildbin-libdir StartedAt: 2025-10-25 01:58:18 -0400 (Sat, 25 Oct 2025) EndedAt: 2025-10-25 01:59:07 -0400 (Sat, 25 Oct 2025) EllapsedTime: 49.5 seconds RetCode: 0 Status: OK PackageFile: Rdisop_1.69.2.tgz PackageFileSize: 246.1 KiB