Package: Rdisop Version: 1.69.2 Command: /Library/Frameworks/R.framework/Resources/bin/R CMD build --keep-empty-dirs --no-resave-data Rdisop StartedAt: 2025-10-03 17:27:30 -0400 (Fri, 03 Oct 2025) EndedAt: 2025-10-03 17:27:43 -0400 (Fri, 03 Oct 2025) EllapsedTime: 13.2 seconds RetCode: 0 Status: OK PackageFile: Rdisop_1.69.2.tar.gz PackageFileSize: 715.9 KiB