Package: Rdisop Version: 1.71.0 Maintainer: Steffen Neumann MaintainerEmail: sneumann at ipb-halle.de git_url: https://git.bioconductor.org/packages/Rdisop git_branch: devel git_last_commit: e8bd517 git_last_commit_date: 2025-10-29 09:59:58 -0500 (Wed, 29 Oct 2025)