Package: RcwlPipelines Version: 1.27.0 Command: /home/biocbuild/bbs-3.23-bioc/R/bin/R CMD INSTALL RcwlPipelines StartedAt: 2025-11-20 15:12:15 -0500 (Thu, 20 Nov 2025) EndedAt: 2025-11-20 15:12:29 -0500 (Thu, 20 Nov 2025) EllapsedTime: 13.7 seconds RetCode: 0 Status: OK