Package: RcwlPipelines Version: 1.27.0 Command: /home/biocbuild/bbs-3.23-bioc/R/bin/R CMD check --install=check:RcwlPipelines.install-out.txt --library=/home/biocbuild/bbs-3.23-bioc/R/site-library --timings RcwlPipelines_1.27.0.tar.gz StartedAt: 2025-11-21 03:04:10 -0500 (Fri, 21 Nov 2025) EndedAt: 2025-11-21 03:06:16 -0500 (Fri, 21 Nov 2025) EllapsedTime: 126.3 seconds RetCode: 0 Status: OK CheckDir: RcwlPipelines.Rcheck Warnings: 0