Package: RcwlPipelines Version: 1.27.0 Command: /home/biocbuild/bbs-3.23-bioc/R/bin/R CMD build --keep-empty-dirs --no-resave-data RcwlPipelines StartedAt: 2025-11-20 19:32:04 -0500 (Thu, 20 Nov 2025) EndedAt: 2025-11-20 19:32:38 -0500 (Thu, 20 Nov 2025) EllapsedTime: 34.0 seconds RetCode: 0 Status: OK PackageFile: RcwlPipelines_1.27.0.tar.gz PackageFileSize: 877.5 KiB