Package: Rcwl Version: 1.25.0 Command: /home/biocbuild/R/R/bin/R CMD INSTALL Rcwl StartedAt: 2025-10-16 21:23:44 -0000 (Thu, 16 Oct 2025) EndedAt: 2025-10-16 21:24:01 -0000 (Thu, 16 Oct 2025) EllapsedTime: 17.0 seconds RetCode: 0 Status: OK