Package: Rcwl Version: 1.25.0 Command: /home/biocbuild/R/R/bin/R CMD build --keep-empty-dirs --no-resave-data Rcwl StartedAt: 2025-10-17 03:52:19 -0000 (Fri, 17 Oct 2025) EndedAt: 2025-10-17 03:53:04 -0000 (Fri, 17 Oct 2025) EllapsedTime: 45.0 seconds RetCode: 0 Status: OK PackageFile: Rcwl_1.25.0.tar.gz PackageFileSize: 1.336 MiB