Package: Rcwl Version: 1.27.0 Command: /home/biocbuild/bbs-3.23-bioc/R/bin/R CMD build --keep-empty-dirs --no-resave-data Rcwl StartedAt: 2025-11-20 19:31:56 -0500 (Thu, 20 Nov 2025) EndedAt: 2025-11-20 19:32:28 -0500 (Thu, 20 Nov 2025) EllapsedTime: 32.0 seconds RetCode: 0 Status: OK PackageFile: Rcwl_1.27.0.tar.gz PackageFileSize: 1.024 MiB