Package: Rcpi Version: 1.47.0 Command: /home/biocbuild/bbs-3.23-bioc/R/bin/R CMD INSTALL Rcpi StartedAt: 2025-11-11 15:43:30 -0500 (Tue, 11 Nov 2025) EndedAt: 2025-11-11 15:43:47 -0500 (Tue, 11 Nov 2025) EllapsedTime: 16.4 seconds RetCode: 0 Status: OK