Package: Rcpi Version: 1.47.0 Command: /home/biocbuild/bbs-3.23-bioc/R/bin/R CMD build --keep-empty-dirs --no-resave-data Rcpi StartedAt: 2025-11-11 19:36:52 -0500 (Tue, 11 Nov 2025) EndedAt: 2025-11-11 19:37:12 -0500 (Tue, 11 Nov 2025) EllapsedTime: 20.0 seconds RetCode: 0 Status: OK PackageFile: Rcpi_1.47.0.tar.gz PackageFileSize: 2.97 MiB