Package: Rcpi Version: 1.45.0 Command: /Library/Frameworks/R.framework/Resources/bin/R CMD INSTALL Rcpi StartedAt: 2025-10-17 15:24:05 -0400 (Fri, 17 Oct 2025) EndedAt: 2025-10-17 15:24:12 -0400 (Fri, 17 Oct 2025) EllapsedTime: 6.2 seconds RetCode: 0 Status: OK