Package: Rcollectl Version: 1.11.0 Command: /home/biocbuild/bbs-3.23-bioc/R/bin/R CMD build --keep-empty-dirs --no-resave-data Rcollectl StartedAt: 2025-10-31 19:40:57 -0400 (Fri, 31 Oct 2025) EndedAt: 2025-10-31 19:41:21 -0400 (Fri, 31 Oct 2025) EllapsedTime: 24.0 seconds RetCode: 0 Status: OK PackageFile: Rcollectl_1.11.0.tar.gz PackageFileSize: 540.1 KiB