Package: RcisTarget Version: 1.29.0 Command: /home/biocbuild/R/R/bin/R CMD INSTALL RcisTarget StartedAt: 2025-10-02 20:56:57 -0000 (Thu, 02 Oct 2025) EndedAt: 2025-10-02 20:57:47 -0000 (Thu, 02 Oct 2025) EllapsedTime: 49.8 seconds RetCode: 0 Status: OK