Package: RcisTarget Version: 1.31.0 Command: /home/biocbuild/bbs-3.23-bioc/R/bin/R CMD INSTALL RcisTarget StartedAt: 2025-11-04 15:31:50 -0500 (Tue, 04 Nov 2025) EndedAt: 2025-11-04 15:32:30 -0500 (Tue, 04 Nov 2025) EllapsedTime: 40.2 seconds RetCode: 0 Status: OK