Package: RcisTarget Version: 1.31.0 Command: /home/biocbuild/bbs-3.23-bioc/R/bin/R CMD check --install=check:RcisTarget.install-out.txt --library=/home/biocbuild/bbs-3.23-bioc/R/site-library --timings RcisTarget_1.31.0.tar.gz StartedAt: 2025-11-07 02:49:01 -0500 (Fri, 07 Nov 2025) EndedAt: 2025-11-07 02:55:22 -0500 (Fri, 07 Nov 2025) EllapsedTime: 381.7 seconds RetCode: 1 Status: ERROR CheckDir: RcisTarget.Rcheck Warnings: NA