Package: RcisTarget Version: 1.31.0 Command: /home/biocbuild/bbs-3.23-bioc/R/bin/R CMD build --keep-empty-dirs --no-resave-data RcisTarget StartedAt: 2025-11-04 19:25:54 -0500 (Tue, 04 Nov 2025) EndedAt: 2025-11-04 19:27:14 -0500 (Tue, 04 Nov 2025) EllapsedTime: 80.1 seconds RetCode: 0 Status: OK PackageFile: RcisTarget_1.31.0.tar.gz PackageFileSize: 12.8 MiB