Package: Rbwa Version: 1.15.0 Command: /home/biocbuild/bbs-3.23-bioc/R/bin/R CMD INSTALL Rbwa StartedAt: 2025-11-03 15:01:43 -0500 (Mon, 03 Nov 2025) EndedAt: 2025-11-03 15:02:01 -0500 (Mon, 03 Nov 2025) EllapsedTime: 17.4 seconds RetCode: 0 Status: OK