Package: Rbwa Version: 1.15.0 Command: /home/biocbuild/bbs-3.23-bioc/R/bin/R CMD build --keep-empty-dirs --no-resave-data Rbwa StartedAt: 2025-11-02 19:25:36 -0500 (Sun, 02 Nov 2025) EndedAt: 2025-11-02 19:25:55 -0500 (Sun, 02 Nov 2025) EllapsedTime: 19.0 seconds RetCode: 0 Status: OK PackageFile: Rbwa_1.15.0.tar.gz PackageFileSize: 651.4 KiB