Package: Rbowtie2 Version: 2.15.0 Command: /home/biocbuild/R/R/bin/R CMD INSTALL Rbowtie2 StartedAt: 2025-10-16 21:29:08 -0000 (Thu, 16 Oct 2025) EndedAt: 2025-10-16 21:37:12 -0000 (Thu, 16 Oct 2025) EllapsedTime: 484.8 seconds RetCode: 0 Status: OK