Package: Rbowtie2 Version: 2.15.0 Command: /home/biocbuild/R/R/bin/R CMD build --keep-empty-dirs --no-resave-data Rbowtie2 StartedAt: 2025-10-17 03:50:05 -0000 (Fri, 17 Oct 2025) EndedAt: 2025-10-17 03:57:56 -0000 (Fri, 17 Oct 2025) EllapsedTime: 471.2 seconds RetCode: 0 Status: OK PackageFile: Rbowtie2_2.15.0.tar.gz PackageFileSize: 1.736 MiB