Package: Rbowtie2 Version: 2.15.0 Command: /home/biocbuild/bbs-3.22-bioc/R/bin/R CMD check --install=check:Rbowtie2.install-out.txt --library=/home/biocbuild/bbs-3.22-bioc/R/site-library --timings Rbowtie2_2.15.0.tar.gz StartedAt: 2025-10-21 03:38:36 -0400 (Tue, 21 Oct 2025) EndedAt: 2025-10-21 03:39:03 -0400 (Tue, 21 Oct 2025) EllapsedTime: 27.1 seconds RetCode: 0 Status: OK CheckDir: Rbowtie2.Rcheck Warnings: 0