Package: Rbowtie2 Version: 2.17.0 Command: /home/biocbuild/bbs-3.23-bioc/R/bin/R CMD INSTALL Rbowtie2 StartedAt: 2025-11-05 15:23:11 -0500 (Wed, 05 Nov 2025) EndedAt: 2025-11-05 15:28:09 -0500 (Wed, 05 Nov 2025) EllapsedTime: 297.3 seconds RetCode: 0 Status: OK