Package: Rbowtie2 Version: 2.17.0 Command: /home/biocbuild/bbs-3.23-bioc/R/bin/R CMD build --keep-empty-dirs --no-resave-data Rbowtie2 StartedAt: 2025-11-05 19:32:25 -0500 (Wed, 05 Nov 2025) EndedAt: 2025-11-05 19:37:24 -0500 (Wed, 05 Nov 2025) EllapsedTime: 299.3 seconds RetCode: 0 Status: OK PackageFile: Rbowtie2_2.17.0.tar.gz PackageFileSize: 1.711 MiB