Package: Rbowtie2 Version: 2.15.0 Command: /Library/Frameworks/R.framework/Resources/bin/R CMD INSTALL Rbowtie2 StartedAt: 2025-10-03 15:19:57 -0400 (Fri, 03 Oct 2025) EndedAt: 2025-10-03 15:24:13 -0400 (Fri, 03 Oct 2025) EllapsedTime: 255.3 seconds RetCode: 0 Status: OK