Package: Rbowtie2 Version: 2.15.0 Command: rm -rf Rbowtie2.buildbin-libdir && mkdir Rbowtie2.buildbin-libdir && /Users/biocbuild/BBS/utils/build-universal.sh Rbowtie2_2.15.0.tar.gz /Library/Frameworks/R.framework/Resources/bin/R Rbowtie2.buildbin-libdir StartedAt: 2025-10-04 02:23:39 -0400 (Sat, 04 Oct 2025) EndedAt: 2025-10-04 02:28:11 -0400 (Sat, 04 Oct 2025) EllapsedTime: 272.7 seconds RetCode: 0 Status: OK PackageFile: Rbowtie2_2.15.0.tgz PackageFileSize: 2.032 MiB