Package: Rbowtie Version: 1.51.0 Command: /home/biocbuild/bbs-3.23-bioc/R/bin/R CMD INSTALL Rbowtie StartedAt: 2025-11-20 15:04:25 -0500 (Thu, 20 Nov 2025) EndedAt: 2025-11-20 15:06:20 -0500 (Thu, 20 Nov 2025) EllapsedTime: 115.5 seconds RetCode: 0 Status: OK