Package: Rbowtie Version: 1.51.0 Command: /home/biocbuild/bbs-3.23-bioc/R/bin/R CMD build --keep-empty-dirs --no-resave-data Rbowtie StartedAt: 2025-11-20 19:30:39 -0500 (Thu, 20 Nov 2025) EndedAt: 2025-11-20 19:32:10 -0500 (Thu, 20 Nov 2025) EllapsedTime: 91.2 seconds RetCode: 0 Status: OK PackageFile: Rbowtie_1.51.0.tar.gz PackageFileSize: 903.8 KiB