Package: Rbowtie Version: 1.49.0 Command: /Library/Frameworks/R.framework/Resources/bin/R CMD INSTALL Rbowtie StartedAt: 2025-10-24 15:14:58 -0400 (Fri, 24 Oct 2025) EndedAt: 2025-10-24 15:16:16 -0400 (Fri, 24 Oct 2025) EllapsedTime: 78.0 seconds RetCode: 0 Status: OK