Package: Rbowtie Version: 1.49.0 Command: /Library/Frameworks/R.framework/Resources/bin/R CMD INSTALL Rbowtie StartedAt: 2025-10-08 15:09:00 -0400 (Wed, 08 Oct 2025) EndedAt: 2025-10-08 15:09:30 -0400 (Wed, 08 Oct 2025) EllapsedTime: 30.5 seconds RetCode: 0 Status: OK