Package: Rbec Version: 1.19.0 Command: /home/biocbuild/bbs-3.23-bioc/R/bin/R CMD build --keep-empty-dirs --no-resave-data Rbec StartedAt: 2025-11-20 19:29:37 -0500 (Thu, 20 Nov 2025) EndedAt: 2025-11-20 19:30:53 -0500 (Thu, 20 Nov 2025) EllapsedTime: 76.1 seconds RetCode: 0 Status: OK PackageFile: Rbec_1.19.0.tar.gz PackageFileSize: 1.467 MiB