Package: Rbec Version: 1.17.0 Command: /Library/Frameworks/R.framework/Resources/bin/R CMD INSTALL Rbec StartedAt: 2025-10-23 15:44:35 -0400 (Thu, 23 Oct 2025) EndedAt: 2025-10-23 15:45:29 -0400 (Thu, 23 Oct 2025) EllapsedTime: 54.4 seconds RetCode: 0 Status: OK