Package: Rbec Version: 1.17.0 Command: /Library/Frameworks/R.framework/Resources/bin/R CMD build --keep-empty-dirs --no-resave-data Rbec StartedAt: 2025-10-24 18:23:41 -0400 (Fri, 24 Oct 2025) EndedAt: 2025-10-24 18:25:08 -0400 (Fri, 24 Oct 2025) EllapsedTime: 86.8 seconds RetCode: 0 Status: OK PackageFile: Rbec_1.17.0.tar.gz PackageFileSize: 1.467 MiB