Package: Rbec Version: 1.17.0 Command: rm -rf Rbec.buildbin-libdir && mkdir Rbec.buildbin-libdir && /Users/biocbuild/BBS/utils/build-universal.sh Rbec_1.17.0.tar.gz /Library/Frameworks/R.framework/Resources/bin/R Rbec.buildbin-libdir StartedAt: 2025-10-24 01:51:50 -0400 (Fri, 24 Oct 2025) EndedAt: 2025-10-24 01:52:47 -0400 (Fri, 24 Oct 2025) EllapsedTime: 56.8 seconds RetCode: 0 Status: OK PackageFile: Rbec_1.17.0.tgz PackageFileSize: 1.529 MiB