Package: Rbec Version: 1.17.0 Command: /Library/Frameworks/R.framework/Resources/bin/R CMD INSTALL Rbec StartedAt: 2025-10-05 15:27:41 -0400 (Sun, 05 Oct 2025) EndedAt: 2025-10-05 15:27:44 -0400 (Sun, 05 Oct 2025) EllapsedTime: 3.1 seconds RetCode: 1 Status: ERROR