Package: Rbec Version: 1.17.0 Command: /Library/Frameworks/R.framework/Resources/bin/R CMD build --keep-empty-dirs --no-resave-data Rbec StartedAt: 2025-10-05 17:29:11 -0400 (Sun, 05 Oct 2025) EndedAt: 2025-10-05 17:29:14 -0400 (Sun, 05 Oct 2025) EllapsedTime: 3.0 seconds RetCode: 1 Status: ERROR PackageFile: None PackageFileSize: NA