Package: RbcBook1 Version: 1.77.0 Command: /home/biocbuild/R/R/bin/R CMD build --keep-empty-dirs --no-resave-data RbcBook1 StartedAt: 2025-10-14 02:49:26 -0000 (Tue, 14 Oct 2025) EndedAt: 2025-10-14 02:49:36 -0000 (Tue, 14 Oct 2025) EllapsedTime: 10.0 seconds RetCode: 0 Status: OK PackageFile: RbcBook1_1.77.0.tar.gz PackageFileSize: 6.41 MiB