Package: RbcBook1 Version: 1.79.0 Command: /home/biocbuild/bbs-3.23-bioc/R/bin/R CMD INSTALL RbcBook1 StartedAt: 2025-11-04 15:11:41 -0500 (Tue, 04 Nov 2025) EndedAt: 2025-11-04 15:11:46 -0500 (Tue, 04 Nov 2025) EllapsedTime: 5.1 seconds RetCode: 0 Status: OK