Package: RbcBook1 Version: 1.79.0 Command: /home/biocbuild/bbs-3.23-bioc/R/bin/R CMD check --install=check:RbcBook1.install-out.txt --library=/home/biocbuild/bbs-3.23-bioc/R/site-library --timings RbcBook1_1.79.0.tar.gz StartedAt: 2025-11-07 02:46:45 -0500 (Fri, 07 Nov 2025) EndedAt: 2025-11-07 02:47:14 -0500 (Fri, 07 Nov 2025) EllapsedTime: 29.0 seconds RetCode: 0 Status: WARNINGS CheckDir: RbcBook1.Rcheck Warnings: 1